BEGIN:VCALENDAR
VERSION:2.0
PRODID:icalendar-ruby
CALSCALE:GREGORIAN
METHOD:PUBLISH
BEGIN:VEVENT
DTSTAMP:20260420T020347Z
UID:543-654408@covenantgrove.org
DTSTART:20260509T013000Z
DTEND:20260509T140000Z
CLASS:PUBLIC
CREATED:20260418T135052
DESCRIPTION:School’s out (almost!)…so let’s celebrate BIG! Join us fo
 r an epic Youth All-Nighter from Friday\, May 8 at 6:30pm to Saturday\, Ma
 y 9 at 7:00am—a night full of nonstop fun for all 6th–12th graders!\nW
 e’re packing the night with games\, food\, laughter\, and unforgettable 
 moments—plus time to connect\, build friendships\, and grow together in 
 a Christ-centered community. It’s all happening in a safe\, welcoming sp
 ace at Covenant Grove where you can come as you are and have an absolute b
 last.\nBring your friends—seriously\, the more the better!\nKnow someone
  who needs a place to belong? This is it. Be praying with us for an incred
 ible night!\nQuestions? Reach out to Pastor Rachel at rachel.garcia@covena
 ntgrove.org
LAST-MODIFIED:20260418T135052
LOCATION:Covenant Grove Church
SUMMARY:Youth All-Nighter
URL;VALUE=URI:https://www.covenantgrove.org/events/youth-all-nighter--543/2
 026-05-08
ATTACH;FILENAME=Youth All-Nighter 2026.png;FMTTYPE=image/png:https://dq5pwp
 g1q8ru0.cloudfront.net/2026/04/18/20/42/20/b919f791-8728-4d1c-9cfb-9bf3953
 80539/Youth%20All-Nighter%202026.png
END:VEVENT
END:VCALENDAR
