BEGIN:VCALENDAR
VERSION:2.0
PRODID:icalendar-ruby
CALSCALE:GREGORIAN
METHOD:PUBLISH
BEGIN:VEVENT
DTSTAMP:20260420T075124Z
UID:374-589787@covenantgrove.org
DTSTART:20251116T182000Z
DTEND:20251116T184000Z
CLASS:PUBLIC
CREATED:20260324T123447
DESCRIPTION:You're Invited to First Step! This is a place where you can ask
  questions\, connect with our pastoral team\, and explore ways to grow in 
 faith and community. Whether you’re new or simply searching for your nex
 t step\, we’re here to walk alongside you. First Step is  Sunday\, May 
 17 at 10:20am or 12:20pm in the sanctuary. See you there!\nhttps://covenan
 tgrove.breezechms.com/form/firststep
LAST-MODIFIED:20260324T123447
LOCATION:4825 Roselle Ave\, Modesto\, CA 95354
SUMMARY:First Step
URL;VALUE=URI:https://www.covenantgrove.org/events/first-step--374/2025-11-
 16
ATTACH;FILENAME=First Step May 17 2026 .jpg;FMTTYPE=image/jpeg:https://dq5p
 wpg1q8ru0.cloudfront.net/2026/03/24/19/34/46/955d1900-02fa-4d3c-aa30-2e351
 5c40e98/First%20Step%20May%2017%202026%20.jpg
END:VEVENT
END:VCALENDAR
