BEGIN:VCALENDAR
VERSION:2.0
PRODID:icalendar-ruby
CALSCALE:GREGORIAN
METHOD:PUBLISH
BEGIN:VEVENT
DTSTAMP:20260422T113409Z
UID:548-661767@covenantgrove.org
DTSTART:20260503T200000Z
DTEND:20260503T210000Z
CLASS:PUBLIC
CREATED:20260421T092335
DESCRIPTION: \n \nSign up: https://covenantgrove.breezechms.com/form/bapt
 ism
LAST-MODIFIED:20260421T092335
LOCATION:
SUMMARY:Baptism Essentials
URL;VALUE=URI:https://www.covenantgrove.org/events/baptism-essentials--548/
 2026-05-03
ATTACH;FILENAME=Baptism Essentials - web.jpg;FMTTYPE=image/jpeg:https://dq5
 pwpg1q8ru0.cloudfront.net/2026/04/21/16/23/34/acd27397-be6a-48ac-8437-98d2
 3b64b844/Baptism%20Essentials%20-%20web.jpg
END:VEVENT
END:VCALENDAR
